Workbook

Sheet 封面
A1: 2023年部门预算公开表
D4: 单位编码：430
D5: 单位名称：岳阳高新技术产业园区管理委员会

Sheet 目录
B1: 部门预算公开表
B3: 一、部门预算报表
B4: 1 | C4: 收支总表
B5: 2 | C5: 收入总表
B6: 3 | C6: 支出总表
B7: 4 | C7: 支出预算分类汇总表（按政府预算经济分类）
B8: 5 | C8: 支出预算分类汇总表（按部门预算经济分类）
B9: 6 | C9: 财政拨款收支总表
B10: 7 | C10: 一般公共预算支出表
B11: 8 | C11: 一般公共预算基本支出表
B12: 9 | C12: 一般公共预算基本支出表--人员经费(工资福利支出)(按政府预算经济分类)
B13: 10 | C13: 一般公共预算基本支出表--人员经费(工资福利支出)(按部门预算经济分类)
B14: 11 | C14: 一般公共预算基本支出表--人员经费(对个人和家庭的补助)(按政府预算经济分类)
B15: 12 | C15: 一般公共预算基本支出表--人员经费(对个人和家庭的补助)（按部门预算经济分类）
... B26: 23 | C26: 部门整体支出绩效目标表
B27: 注：以上部门预算报表中，空表表示本部门无相关收支情况。

Sheet 1收支总表
A1: 收支总表
A2: 单位：岳阳高新技术产业园区管理委员会 | G2: 金额单位：万元
A3: 收入 | C3: 支出
A4: 项目 | B4: 预算数 | C4: 项目（按功能分类） | D4: 预算数 | E4: 项目（按部门预算经济分类） | F4: 预算数 | G4: 项目（按政府预算经济分类） | H4: 预算数
A5: 一、一般公共预算拨款收入 | B5: ='2收入总表'!E7 -> #REF! | C5: （一）一般公共服务支出 | D5: 38.01 | E5: 一、基本支出 | F5: ='5支出分类（部门预算）'!G5 -> 762.49 | G5: 一、机关工资福利支出 | H5: =F6 -> 493.73
A6: 经费拨款 | B6: 1492.07 | C6: （二）外交支出 | E6: 工资福利支出 | F6: ='5支出分类（部门预算）'!H5 -> 493.73 | G6: 二、机关商品和服务支出 | H6: =F7+F11 -> 1837.93
A7: 纳入一般公共预算管理的非税收入拨款 | C7: （三）国防支出 | E7: 商品和服务支出 | F7: ='5支出分类（部门预算）'!I5 -> 267.63 | G7: 三、机关资本性支出（一） | H7: =F14 -> 42396.16
A8: 行政事业性收费收入 | C8: （四）公共安全支出 | E8: 对个人和家庭的补助 | F8: ='5支出分类（部门预算）'!J5 -> 1.13 | G8: 四、机关资本性支出（二） | H8: =F15 -> 1168.56
A9: 专项收入 | C9: （五）教育支出 | E9: 二、项目支出 | F9: ='5支出分类（部门预算）'!K5 -> 63978.99 | G9: 五、对事业单位经常性补助
A10: 国有资本经营收入 | C10: （六）科学技术支出 | D10: 39.29 | E10: 按项目管理的工资福利支出 | G10: 六、对事业单位资本性补助
A11: 国有资源（资产）有偿使用收入 | C11: （七）文化旅游体育与传媒支出 | E11: 按项目管理的商品和服务支出 | F11: ='5支出分类（部门预算）'!M5 -> 1570.3 | G11: 七、对企业补助 | H11: =F17 -> 18843.97
A12: 罚没收入 | C12: （八）社会保障和就业支出 | D12: 55.76 | E12: 按项目管理的对个人和家庭的补助 | G12: 八、对企业资本性支出
A13: 捐赠收入 | C13: （九）社会保险基金支出 | E13: 债务利息及费用支出 | G13: 九、对个人和家庭的补助 | H13: =F8 -> 1.13
A14: 政府住房基金收入 | C14: （十）卫生健康支出 | D14: 31.16 | E14: 资本性支出（基本建设） | F14: ='5支出分类（部门预算）'!P5 -> 42396.16 | G14: 十、对社会保障基金补助
A15: 其他纳入一般公共预算管理的非税收入 | C15: （十一）节能环保支出 | E15: 资本性支出 | F15: ='5支出分类（部门预算）'!Q5 -> 1168.56 | G15: 十一、债务利息及费用支出
A16: 一般债券 | C16: （十二）城乡社区支出 | D16: 20399.83 | E16: 对企业补助（基本建设） | G16: 十二、债务还本支出
A17: 外国政府和国际组织贷款 | C17: （十三）农林水支出 | E17: 对企业补助 | F17: ='5支出分类（部门预算）'!S5 -> 18843.97 | G17: 十三、转移性支出
A18: 外国政府和国际组织捐赠 | C18: （十四）交通运输支出 | E18: 对社会保障基金补助 | G18: 十四、其他支出
A19: 二、政府性基金预算拨款收入 | B19: 63249.41 | C19: （十五）资源勘探工业信息等支出 | D19: 1238.42 | E19: 其他支出
A20: 三、国有资本经营预算拨款收入 | C20: （十六）商业服务业等支出 | E20: 三、事业单位经营服务支出
A21: 四、社会保障基金预算资金 | C21: （十七）金融支出
A22: 五、财政专户管理资金收入 | C22: （十八）援助其他地区支出
A23: 六、上级财政补助收入 | C23: （十九）自然资源海洋气象等支出
A24: 一般公共预算补助 | C24: （二十）住房保障支出 | D24: 62.58
A25: 政府性基金补助 | C25: （二十一）粮油物资储备支出
A26: 国有资本经营预算补助 | C26: （二十二）国有资本经营预算支出
A27: 七、事业收入 | C27: （二十三）灾害防治及应急管理支出
A28: 八、事业单位经营收入 | C28: （二十四）预备费
A29: 九、上级单位补助收入 | C29: （二十五）其他支出 | D29: 42876.43
A30: 十、附属单位上缴收入 | C30: （二十六）转移性支出
A31: 十一、其他收入 | B31: ='2收入总表'!R7 -> 0 | C31: （二十七）债务还本支出
C32: （二十八）债务付息支出
C33: （二十九）债务发行费用支出
C34: （三十）抗疫特别国债安排的支出
A37: 本 年 收 入 合 计 | B37: =B5+B19+B31 -> #REF! | C37: 本 年 支 出 合 计 | D37: =SUM(D5:D35) -> 64741.48 | E37: 本 年 支 出 合 计 | F37: =F5+F9 -> 64741.48 | G37: 本 年 支 出 合 计 | H37: =SUM(H5:H35) -> 64741.48
A38: 上年结转结余 | C38: 年终结转结余 | E38: 年终结转结余 | G38: 年终结转结余
A40: 收 入 总 计 | B40: =B37 -> #REF! | C40: 支 出 总 计 | D40: =D37 -> 64741.48 | E40: 支 出 总 计 | F40: =F37 -> 64741.48 | G40: 支 出 总 计 | H40: =H37 -> 64741.48

Sheet 2收入总表
A1: 收入总表
A2: 单位：岳阳高新技术产业园区管理委员会 | X2: 金额单位：万元
A3: 部门（单位）代码 | B3: 部门（单位）名称 | C3: 合计 | D3: 本年收入 | S3: 上年结转结余
D4: 小计 | E4: 一般公共预算 | F4: 政府性基金预算 | G4: 国有资本经营预算 | H4: 社会保险基金预算资金 | I4: 财政专户管理资金 | J4: 上级财政补助收入 | N4: 事业收入 | O4: 事业单位经营收入 | P4: 上级单位补助收入 | Q4: 附属单位上缴收入 | R4: 其他收入 | S4: 小计 | T4: 一般公共预算 | U4: 政府性基金预算 | V4: 国有资本经营预算 | W4: 社会保险基金预算资金 | X4: 财政专户管理资金 | Y4: 单位资金
J5: 一般公共预算补助 | K5: 政府性基金补助 | L5: 国有资本经营预算补助 | M5: 社会保险基金预算资金
B6: 合计
A7: 430 | B7: 岳阳高新技术产业园区管理委员会 | C7: =D7 -> #REF! | D7: =SUM(E7:R7) -> #REF! | E7: ='6财政拨款收支总表'!B6 -> #REF! | F7: ='6财政拨款收支总表'!B9 -> 63249.41

Sheet 3支出总表
A1: 支出总表
A2: 单位：岳阳高新技术产业园区管理委员会 | K2: 金额单位：万元
A3: 功能科目 | D3: 科目编码 | E3: 科目名称 | F3: 合计 | G3: 基本支出 | H3: 项目支出 | I3: 事业单位经营支出 | J3: 上缴上级支出 | K3: 对附属单位补助支出
A4: 类 | B4: 款 | C4: 项
D5: 合计 | F5: =F6+F11+F14+F19+F23+F29+F35+F38 -> 64741.48 | G5: =G6+G11+G14+G19+G23+G29+G35+G38 -> 762.49 | H5: =H6+H11+H14+H19+H23+H29+H35+H38 -> 63978.99
A6: 201 | D6: 201 | E6: 一般公共服务支出 | F6: 38.01 | G6: 10.01 | H6: 28
A7: 201 | B7: 03 | D7: 20103 | E7: 政府办公厅（室）及相关机构事务 | F7: 10.01 | G7: 10.01 | H7: 0
A8: 201 | B8: 03 | C8: 99 | D8: 2010399 | E8: 其他政府办公厅（室）及相关机构事务支出 | F8: 10.01 | G8: 10.01 | H8: 0
A9: 201 | B9: 13 | D9: 20113 | E9: 商贸事务 | F9: 28 | G9: 0 | H9: 28
A10: 201 | B10: 13 | C10: 08 | D10: 2011308 | E10: 招商引资 | F10: 28 | G10: 0 | H10: 28
A11: 206 | D11: 206 | E11: 科学技术支出 | F11: 39.29 | G11: 0 | H11: 39.29
A12: 206 | B12: 05 | D12: 20605 | E12: 科技条件与服务 | F12: 39.29 | G12: 0 | H12: 39.29
A13: 206 | B13: 05 | C13: 99 | D13: 2060599 | E13: 其他科技条件与服务支出 | F13: 39.29 | G13: 0 | H13: 39.29
A14: 208 | D14: 208 | E14: 社会保障和就业支出 | F14: 55.76 | G14: 55.76 | H14: 0
A15: 208 | B15: 05 | D15: 20805 | E15: 行政事业单位养老支出 | F15: 52.48 | G15: 52.48 | H15: 0
A16: 208 | B16: 05 | C16: 05 | D16: 2080505 | E16: 机关事业单位基本养老保险缴费支出 | F16: 52.48 | G16: 52.48 | H16: 0
A17: 208 | B17: 99 | D17: 20899 | E17: 其他社会保障和就业支出 | F17: 3.28 | G17: 3.28 | H17: 0
A18: 208 | B18: 99 | C18: 99 | D18: 2089999 | E18: 其他社会保障和就业支出 | F18: 3.28 | G18: 3.28 | H18: 0
A19: 210 | D19: 210 | E19: 卫生健康支出 | F19: 31.16 | G19: 31.16 | H19: 0
A20: 210 | B20: 11 | D20: 21011 | E20: 行政事业单位医疗 | F20: 31.16 | G20: 31.16 | H20: 0
A21: 210 | B21: 11 | C21: 02 | D21: 2101102 | E21: 事业单位医疗 | F21: 27.88 | G21: 27.88 | H21: 0
A22: 210 | B22: 11 | C22: 03 | D22: 2101103 | E22: 公务员医疗补助 | F22: 3.28 | G22: 3.28 | H22: 0
A23: 212 | D23: 212 | E23: 城乡社区支出 | F23: 20399.83 | G23: 0 | H23: 20399.83
A24: 212 | B24: 08 | D24: 21208 | E24: 国有土地使用权出让收入安排的支出 | F24: 3968.83 | G24: 0 | H24: 3968.83
A25: 212 | B25: 08 | C25: 03 | D25: 2120803 | E25: 城市建设支出 | F25: 97.72 | G25: 0 | H25: 97.72
A26: 212 | B26: 08 | C26: 99 | D26: 2120899 | E26: 其他国有土地使用权出让收入安排的支出 | F26: 19897.08 | G26: 0 | H26: 19897.08
A27: 212 | B27: 14 | D27: 21214 | E27: 污水处理费安排的支出 | F27: 405.03 | G27: 0 | H27: 405.03
A28: 212 | B28: 14 | C28: 01 | D28: 2121401 | E28: 污水处理设施建设和运营 | F28: 405.03 | G28: 0 | H28: 405.03
A29: 215 | D29: 215 | E29: 资源勘探工业信息等支出 | F29: =F30+F32 -> 1238.42 | G29: 602.98 | H29: =H30+H32 -> 635.44
A30: 215 | B30: 05 | D30: 21505 | E30: 工业和信息产业监管 | F30: 68.03 | G30: 0 | H30: 68.03
A31: 215 | B31: 05 | C31: 01 | D31: 2150501 | E31: 行政运行 | F31: 68.03 | G31: 0 | H31: 68.03
A32: 215 | B32: 08 | D32: 21508 | E32: 支持中小企业发展和管理支出 | F32: =F33+F34 -> 1170.39 | G32: 602.98 | H32: =H33+H34 -> 567.41
A33: 215 | B33: 08 | C33: 01 | D33: 2150801 | E33: 行政运行 | F33: =G33+H33 -> 697.34 | G33: 602.98 | H33: 94.36
A34: 215 | B34: 08 | C34: 99 | D34: 2150899 | E34: 其他支持中小企业发展和管理支出 | F34: 473.05 | G34: 0 | H34: 473.05
A35: 221 | D35: 221 | E35: 住房保障支出 | F35: 62.58 | G35: 62.58 | H35: 0
A36: 221 | B36: 02 | D36: 22102 | E36: 住房改革支出 | F36: 62.58 | G36: 62.58 | H36: 0
A37: 221 | B37: 02 | C37: 01 | D37: 2210201 | E37: 住房公积金 | F37: 62.58 | G37: 62.58 | H37: 0
A38: 229 | D38: 229 | E38: 其他支出 | F38: 42876.43 | G38: 0 | H38: 42876.43
A39: 229 | B39: 04 | D39: 22904 | E39: 其他政府性基金及对应专项债务收入安排的支出 | F39: 39392.43 | G39: 0 | H39: 39392.43
A40: 229 | B40: 04 | C40: 02 | D40: 2290402 | E40: 其他地方自行试点项目收益专项债券收入安排的支出 | F40: 39392.43 | G40: 0 | H40: 39392.43
...

Sheet 4支出分类(政府预算)
A1: 支出预算分类汇总表（按政府预算经济分类）
A2: 单位：岳阳高新技术产业园区管理委员会 | S2: 金额单位：万元
A3: 功能科目 | D3: 单位代码 | E3: 单位名称（功能科目） | F3: 总 计 | G3: 机关工资福利支出 | H3: 机关商品和服务支出 | I3: 机关资本性支出(一) | J3: 机关资本性支出(二) | K3: 对事业单位经常性补助 | L3: 对事业单位资本性补助 | M3: 对企业补助 | N3: 对企业资本性支出 | O3: 对个人和家庭的补助 | P3: 对社会保障基金补助 | Q3: 债务利息及费用支出 | R3: 债务还本支出 | S3: 转移性支出 | T3: 其他支出
A4: 类 | B4: 款 | C4: 项
E5: 合计 | F5: =G5+H5+I5+J5+M5+O5 -> 64741.48 | G5: =G6+G11+G14+G19+G23+G29+G35+G38 -> 493.73 | H5: =H6+H11+H14+H19+H23+H29+H35+H38 -> 1837.93 | I5: 42396.16 | J5: 1168.56 | M5: 18843.97 | O5: =O6+O11+O14+O19+O23+O29+O35+O38 -> 1.13
A6: 201 | D6: 201 | E6: 一般公共服务支出 | F6: 38.01 | G6: 8.88 | H6: 28 | O6: 1.13
A7: 201 | B7: 03 | D7: 20103 | E7: 政府办公厅（室）及相关机构事务 | F7: 10.01 | G7: 8.88 | O7: 1.13
A8: 201 | B8: 03 | C8: 99 | D8: 2010399 | E8: 其他政府办公厅（室）及相关机构事务支出 | F8: 10.01 | G8: 8.88 | O8: 1.13
A9: 201 | B9: 13 | D9: 20113 | E9: 商贸事务 | F9: 28 | H9: 28
A10: 201 | B10: 13 | C10: 08 | D10: 2011308 | E10: 招商引资 | F10: 28 | H10: 28
A11: 206 | D11: 206 | E11: 科学技术支出 | F11: 39.29 | H11: 39.29
A12: 206 | B12: 05 | D12: 20605 | E12: 科技条件与服务 | F12: 39.29 | H12: 39.29
A13: 206 | B13: 05 | C13: 99 | D13: 2060599 | E13: 其他科技条件与服务支出 | F13: 39.29 | H13: 39.29
A14: 208 | D14: 208 | E14: 社会保障和就业支出 | F14: 55.76 | G14: 55.76 | H14: 0
A15: 208 | B15: 05 | D15: 20805 | E15: 行政事业单位养老支出 | F15: 52.48 | G15: 52.48
A16: 208 | B16: 05 | C16: 05 | D16: 2080505 | E16: 机关事业单位基本养老保险缴费支出 | F16: 52.48 | G16: 52.48
A17: 208 | B17: 99 | D17: 20899 | E17: 其他社会保障和就业支出 | F17: 3.28 | G17: 3.28
A18: 208 | B18: 99 | C18: 99 | D18: 2089999 | E18: 其他社会保障和就业支出 | F18: 3.28 | G18: 3.28
A19: 210 | D19: 210 | E19: 卫生健康支出 | F19: 31.16 | G19: 31.16 | H19: 0
A20: 210 | B20: 11 | D20: 21011 | E20: 行政事业单位医疗 | F20: 31.16 | G20: 31.16
A21: 210 | B21: 11 | C21: 02 | D21: 2101102 | E21: 事业单位医疗 | F21: 27.88 | G21: 27.88
A22: 210 | B22: 11 | C22: 03 | D22: 2101103 | E22: 公务员医疗补助 | F22: 3.28 | G22: 3.28
A23: 212 | D23: 212 | E23: 城乡社区支出 | F23: 20399.83 | H23: 947.57 | I23: 3003.73 | J23: 422.56 | M23: 16025.97
A24: 212 | B24: 08 | D24: 21208 | E24: 国有土地使用权出让收入安排的支出 | F24: 3968.83 | H24: 542.54 | I24: 3003.73 | J24: 422.56
A25: 212 | B25: 08 | C25: 03 | D25: 2120803 | E25: 城市建设支出 | F25: 97.72 | I25: 97.72
A26: 212 | B26: 08 | C26: 99 | D26: 2120899 | E26: 其他国有土地使用权出让收入安排的支出 | F26: 19897.08 | H26: 542.54 | I26: 2906.01 | J26: 422.56 | M26: 16025.97
A27: 212 | B27: 14 | D27: 21214 | E27: 污水处理费安排的支出 | F27: 405.03 | H27: 405.03
A28: 212 | B28: 14 | C28: 01 | D28: 2121401 | E28: 污水处理设施建设和运营 | F28: 405.03 | H28: 405.03
A29: 215 | D29: 215 | E29: 资源勘探工业信息等支出 | F29: =F30+F32 -> 1158.42 | G29: 335.35 | H29: =H30+H32 -> 823.07 | M29: 80
A30: 215 | B30: 05 | D30: 21505 | E30: 工业和信息产业监管 | F30: =SUM(G30:T30) -> 68.03 | H30: 68.03
A31: 215 | B31: 05 | C31: 01 | D31: 2150501 | E31: 行政运行 | F31: =SUM(G31:T31) -> 68.03 | H31: 68.03
A32: 215 | B32: 08 | D32: 21508 | E32: 支持中小企业发展和管理支出 | F32: =SUM(G32:T32) -> 1090.39 | G32: 335.35 | H32: =H33+H34 -> 755.04
A33: 215 | B33: 08 | C33: 01 | D33: 2150801 | E33: 行政运行 | F33: =SUM(G33:T33) -> 697.34 | G33: 335.35 | H33: 361.99
A34: 215 | B34: 08 | C34: 99 | D34: 2150899 | E34: 其他支持中小企业发展和管理支出 | F34: =SUM(G34:T34) -> 473.05 | H34: 393.05 | M34: 80
A35: 221 | D35: 221 | E35: 住房保障支出 | F35: 62.58 | G35: 62.58 | H35: 0
A36: 221 | B36: 02 | D36: 22102 | E36: 住房改革支出 | F36: 62.58 | G36: 62.58
A37: 221 | B37: 02 | C37: 01 | D37: 2210201 | E37: 住房公积金 | F37: 62.58 | G37: 62.58
A38: 229 | D38: 229 | E38: 其他支出 | F38: 42876.43 | H38: 0 | I38: 39392.43 | J38: 746 | M38: 2738
A39: 229 | B39: 04 | D39: 22904 | E39: 其他政府性基金及对应专项债务收入安排的支出 | F39: 39392.43 | I39: 39392.43
A40: 229 | B40: 04 | C40: 02 | D40: 2290402 | E40: 其他地方自行试点项目收益专项债券收入安排的支出 | F40: 39392.43 | I40: 39392.43
...

Sheet 5支出分类（部门预算）
A1: 支出预算分类汇总表（按部门预算经济分类）
A2: 单位：岳阳高新技术产业园区管理委员会 | T2: 金额单位：万元
A3: 功能科目 | D3: 单位代码 | E3: 单位名称（功能科目） | F3: 总 计 | G3: 基本支出 | K3: 项目支出
A4: 类 | B4: 款 | C4: 项 | G4: 合计 | H4: 工资福利支出 | I4: 一般商品和服务支出 | J4: 对个人和家庭的补助 | K4: 合计 | L4: 按项目管理的工资福利支出 | M4: 按项目管理的商品和服务支出 | N4: 按项目管理的对个人和家庭的补助 | O4: 债务利息及费用支出 | P4: 资本性支出（基本建设） | Q4: 资本性支出 | R4: 对企业补助（基本建设） | S4: 对企业补助 | T4: 对社会保障基金补助 | U4: 其他支出
E5: 合计 | F5: =F6+F11+F14+F19+F23+F29+F35+F38 -> 64741.48 | G5: =G6+G11+G14+G19+G23+G29+G35+G38 -> 762.49 | H5: =H6+H11+H14+H19+H23+H29+H35+H38 -> 493.73 | I5: =I6+I11+I14+I19+I23+I29+I35+I38 -> 267.63 | J5: =J6+J11+J14+J19+J23+J29+J35+J38 -> 1.13 | K5: =K6+K11+K14+K19+K23+K29+K35+K38 -> 63978.99 | L5: =L6+L11+L14+L19+L23+L29+L35+L38 -> 0 | M5: =M6+M11+M14+M19+M23+M29+M35+M38 -> 1570.3 | ... U5: =U6+U11+U14+U19+U23+U29+U35+U38 -> 0
A6: 201 | D6: 201 | E6: 一般公共服务支出 | F6: =G6+K6 -> 38.01 | G6: =H6+I6+J6 -> 10.01 | H6: 8.88 | J6: 1.13 | K6: =SUM(L6:U6) -> 28 | M6: 28
A7: 201 | B7: 03 | D7: 20103 | E7: 政府办公厅（室）及相关机构事务 | F7: =G7+K7 -> 10.01 | G7: =H7+I7+J7 -> 10.01 | H7: 8.88 | J7: 1.13 | K7: =SUM(L7:U7) -> 0
A8: 201 | B8: 03 | C8: 99 | D8: 2010399 | E8: 其他政府办公厅（室）及相关机构事务支出 | F8: =G8+K8 -> 10.01 | G8: =H8+I8+J8 -> 10.01 | H8: 8.88 | J8: 1.13 | K8: =SUM(L8:U8) -> 0
A9: 201 | B9: 13 | D9: 20113 | E9: 商贸事务 | F9: =G9+K9 -> 28 | G9: =H9+I9+J9 -> 0 | K9: =SUM(L9:U9) -> 28 | M9: 28
A10: 201 | B10: 13 | C10: 08 | D10: 2011308 | E10: 招商引资 | F10: =G10+K10 -> 28 | G10: =H10+I10+J10 -> 0 | K10: =SUM(L10:U10) -> 28 | M10: 28
A11: 206 | D11: 206 | E11: 科学技术支出 | F11: =G11+K11 -> 39.29 | G11: =H11+I11+J11 -> 0 | K11: =SUM(L11:U11) -> 39.29 | M11: 39.29
A12: 206 | B12: 05 | D12: 20605 | E12: 科技条件与服务 | F12: =G12+K12 -> 39.29 | G12: =H12+I12+J12 -> 0 | K12: =SUM(L12:U12) -> 39.29 | M12: 39.29
A13: 206 | B13: 05 | C13: 99 | D13: 2060599 | E13: 其他科技条件与服务支出 | F13: =G13+K13 -> 39.29 | G13: =H13+I13+J13 -> 0 | K13: =SUM(L13:U13) -> 39.29 | M13: 39.29
A14: 208 | D14: 208 | E14: 社会保障和就业支出 | F14: =G14+K14 -> 55.76 | G14: =H14+I14+J14 -> 55.76 | H14: 55.76 | K14: =SUM(L14:U14) -> 0
A15: 208 | B15: 05 | D15: 20805 | E15: 行政事业单位养老支出 | F15: =G15+K15 -> 52.48 | G15: =H15+I15+J15 -> 52.48 | H15: 52.48 | K15: =SUM(L15:U15) -> 0
A16: 208 | B16: 05 | C16: 05 | D16: 2080505 | E16: 机关事业单位基本养老保险缴费支出 | F16: =G16+K16 -> 52.48 | G16: =H16+I16+J16 -> 52.48 | H16: 52.48 | K16: =SUM(L16:U16) -> 0
A17: 208 | B17: 99 | D17: 20899 | E17: 其他社会保障和就业支出 | F17: =G17+K17 -> 3.28 | G17: =H17+I17+J17 -> 3.28 | H17: 3.28 | K17: =SUM(L17:U17) -> 0
A18: 208 | B18: 99 | C18: 99 | D18: 2089999 | E18: 其他社会保障和就业支出 | F18: =G18+K18 -> 3.28 | G18: =H18+I18+J18 -> 3.28 | H18: 3.28 | K18: =SUM(L18:U18) -> 0
A19: 210 | D19: 210 | E19: 卫生健康支出 | F19: =G19+K19 -> 31.16 | G19: =H19+I19+J19 -> 31.16 | H19: 31.16 | K19: =SUM(L19:U19) -> 0
A20: 210 | B20: 11 | D20: 21011 | E20: 行政事业单位医疗 | F20: =G20+K20 -> 31.16 | G20: =H20+I20+J20 -> 31.16 | H20: 31.16 | K20: =SUM(L20:U20) -> 0
A21: 210 | B21: 11 | C21: 02 | D21: 2101102 | E21: 事业单位医疗 | F21: =G21+K21 -> 27.88 | G21: =H21+I21+J21 -> 27.88 | H21: 27.88 | K21: =SUM(L21:U21) -> 0
A22: 210 | B22: 11 | C22: 03 | D22: 2101103 | E22: 公务员医疗补助 | F22: =G22+K22 -> 3.28 | G22: =H22+I22+J22 -> 3.28 | H22: 3.28 | K22: =SUM(L22:U22) -> 0
A23: 212 | D23: 212 | E23: 城乡社区支出 | F23: =G23+K23 -> 20399.83 | G23: =H23+I23+J23 -> 0 | K23: =SUM(L23:U23) -> 20399.83 | M23: =M24+M27 -> 947.57 | P23: =P24 -> 3003.73 | Q23: =Q24 -> 422.56 | S23: 16025.97
A24: 212 | B24: 08 | D24: 21208 | E24: 国有土地使用权出让收入安排的支出 | F24: =G24+K24 -> 3968.83 | G24: =H24+I24+J24 -> 0 | K24: =SUM(L24:U24) -> 3968.83 | M24: =M25+M26 -> 542.54 | P24: =P25+P26 -> 3003.73 | Q24: =Q25+Q26 -> 422.56
A25: 212 | B25: 08 | C25: 03 | D25: 2120803 | E25: 城市建设支出 | F25: =G25+K25 -> 97.72 | G25: =H25+I25+J25 -> 0 | K25: =SUM(L25:U25) -> 97.72 | P25: 97.72
A26: 212 | B26: 08 | C26: 99 | D26: 2120899 | E26: 其他国有土地使用权出让收入安排的支出 | F26: =G26+K26 -> 19897.08 | G26: =H26+I26+J26 -> 0 | K26: =SUM(L26:U26) -> 19897.08 | M26: =26.85+515.69 -> 542.54 | P26: 2906.01 | Q26: 422.56 | S26: =18763.97-2738 -> 16025.97
A27: 212 | B27: 14 | D27: 21214 | E27: 污水处理费安排的支出 | F27: =G27+K27 -> 405.03 | G27: =H27+I27+J27 -> 0 | K27: =SUM(L27:U27) -> 405.03 | M27: 405.03
A28: 212 | B28: 14 | C28: 01 | D28: 2121401 | E28: 污水处理设施建设和运营 | F28: =G28+K28 -> 405.03 | G28: =H28+I28+J28 -> 0 | K28: =SUM(L28:U28) -> 405.03 | M28: 405.03
A29: 215 | D29: 215 | E29: 资源勘探工业信息等支出 | F29: =G29+K29 -> 1238.42 | G29: =H29+I29+J29 -> 602.98 | H29: 335.35 | I29: 267.63 | K29: =SUM(L29:U29) -> 635.44 | M29: =M30+M32 -> 555.44 | S29: 80
A30: 215 | B30: 05 | D30: 21505 | E30: 工业和信息产业监管 | F30: =G30+K30 -> 68.03 | G30: =H30+I30+J30 -> 0 | K30: =SUM(L30:U30) -> 68.03 | M30: 68.03
A31: 215 | B31: 05 | C31: 01 | D31: 2150501 | E31: 行政运行 | F31: =G31+K31 -> 68.03 | G31: =H31+I31+J31 -> 0 | K31: =SUM(L31:U31) -> 68.03 | M31: 68.03
A32: 215 | B32: 08 | D32: 21508 | E32: 支持中小企业发展和管理支出 | F32: =G32+K32 -> 1090.39 | G32: =H32+I32+J32 -> 602.98 | H32: 335.35 | I32: =I33+I34 -> 267.63 | K32: =SUM(L32:U32) -> 487.41 | M32: =M33+M34 -> 487.41
A33: 215 | B33: 08 | C33: 01 | D33: 2150801 | E33: 行政运行 | F33: =G33+K33 -> 697.34 | G33: =H33+I33+J33 -> 602.98 | H33: 335.35 | I33: 267.63 | K33: =SUM(L33:U33) -> 94.36 | M33: 94.36
A34: 215 | B34: 08 | C34: 99 | D34: 2150899 | E34: 其他支持中小企业发展和管理支出 | F34: =G34+K34 -> 473.05 | G34: =H34+I34+J34 -> 0 | K34: =SUM(L34:U34) -> 473.05 | M34: 393.05 | S34: 80
A35: 221 | D35: 221 | E35: 住房保障支出 | F35: =G35+K35 -> 62.58 | G35: =H35+I35+J35 -> 62.58 | H35: 62.58 | K35: =SUM(L35:U35) -> 0
A36: 221 | B36: 02 | D36: 22102 | E36: 住房改革支出 | F36: =G36+K36 -> 62.58 | G36: =H36+I36+J36 -> 62.58 | H36: 62.58 | K36: =SUM(L36:U36) -> 0
A37: 221 | B37: 02 | C37: 01 | D37: 2210201 | E37: 住房公积金 | F37: =G37+K37 -> 62.58 | G37: =H37+I37+J37 -> 62.58 | H37: 62.58 | K37: =SUM(L37:U37) -> 0
A38: 229 | D38: 229 | E38: 其他支出 | F38: =G38+K38 -> 42876.43 | G38: =H38+I38+J38 -> 0 | K38: =SUM(L38:U38) -> 42876.43 | P38: =P39+P41 -> 39392.43 | Q38: =Q39+Q41 -> 746 | S38: 2738
A39: 229 | B39: 04 | D39: 22904 | E39: 其他政府性基金及对应专项债务收入安排的支出 | F39: =G39+K39 -> 39392.43 | G39: =H39+I39+J39 -> 0 | K39: =SUM(L39:U39) -> 39392.43 | P39: 39392.43
A40: 229 | B40: 04 | C40: 02 | D40: 2290402 | E40: 其他地方自行试点项目收益专项债券收入安排的支出 | F40: =G40+K40 -> 39392.43 | G40: =H40+I40+J40 -> 0 | K40: =SUM(L40:U40) -> 39392.43 | P40: 39392.43
...

Sheet 6财政拨款收支总表
A1: 财政拨款收支总表
A2: 单位：岳阳高新技术产业园区管理委员会 | D2: 金额单位：万元
A3: 收入 | C3: 支出
A4: 项目 | B4: 预算数 | C4: 项目 | D4: 预算数
A5: 一、本年收入 | B5: =B6+B9 -> #REF! | C5: 一、本年支出 | D5: =SUM(D6:D35) -> 64741.48
A6: （一）一般公共预算拨款 | B6: ='7一般公共预算支出表'!F6 -> #REF! | C6: （一）一般公共服务支出 | D6: 38.01
A7: 经费拨款 | B7: 1492.07 | C7: （二）外交支出
A8: 纳入一般公共预算管理的非税收入拨款 | C8: （三）国防支出
A9: （二）政府性基金预算拨款 | B9: ='16政府性基金'!C6 -> 63249.41 | C9: （四）公共安全支出
A10: （三）国有资本经营预算拨款 | C10: （五）教育支出
A11: （四）社会保险基金预算资金 | C11: （六）科学技术支出 | D11: 39.29
A12: 二、上年结转 | C12: （七）文化旅游体育与传媒支出
A13: （一）一般公共预算拨款 | C13: （八）社会保障和就业支出 | D13: 55.76
A14: （二）政府性基金预算拨款 | C14: （九）社会保险基金支出
A15: （三）国有资本经营预算拨款 | C15: （十）卫生健康支出 | D15: 31.16
A16: （四）社会保险基金预算资金 | C16: （十一）节能环保支出
C17: （十二）城乡社区支出 | D17: 20399.83
C18: （十三）农林水支出
C19: （十四）交通运输支出
C20: （十五）资源勘探工业信息等支出 | D20: 1238.42
C21: （十六）商业服务业等支出
C22: （十七）金融支出
C23: （十八）援助其他地区支出
C24: （十九）自然资源海洋气象等支出
C25: （二十）住房保障支出 | D25: 62.58
C26: （二十一）粮油物资储备支出
C27: （二十二）国有资本经营预算支出
C28: （二十三）灾害防治及应急管理支出
C29: （二十四）预备费
C30: （二十五）其他支出 | D30: 42876.43
C31: （二十六）转移性支出
C32: （二十七）债务还本支出
C33: （二十八）债务付息支出
C34: （二十九）债务发行费用支出
C35: （三十）抗疫特别国债安排的支出
C37: 二、年终结转结余
A39: 收 入 总 计 | B39: =B5 -> #REF! | C39: 支 出 总 计 | D39: =D5-D37 -> 64741.48

Sheet 7一般公共预算支出表
A1: 一般公共预算支出表
A2: 单位：岳阳高新技术产业园区管理委员会 | J2: 金额单位：万元
A3: 功能科目 | D3: 科目编码 | E3: 科目名称 | F3: 合计 | G3: 基本支出 | K3: 项目支出
G4: 小计 | H4: 人员经费 | J4: 公用经费
A5: 类 | B5: 款 | C5: 项 | H5: 工资福利支出 | I5: 对个人和家庭的补助
E6: 合计 | F6: =F7+F12+F15+F20+F24+F27+F33 -> #REF! | G6: =G7+G12+G15+G20+G24+G27+G33 -> #REF! | H6: =H7+H12+H15+H20+H24+H27+H33 -> 493.73 | I6: =I7+I12+I15+I20+I24+I27+I33 -> 1.13 | J6: =J7+J12+J15+J20+J24+J27+J33 -> 267.63 | K6: =K7+K12+K15+K20+K24+K27+K33 -> 729.58
A7: 201 | D7: 201 | E7: 一般公共服务支出 | F7: 38.01 | G7: 10.01 | H7: 8.88 | I7: 1.13 | K7: 28
A8: 201 | B8: 03 | D8: 20103 | E8: 政府办公厅（室）及相关机构事务 | F8: 10.01 | G8: =H8+I8+K8 -> 10.01 | H8: 8.88 | I8: 1.13
A9: 201 | B9: 03 | C9: 99 | D9: 2010399 | E9: 其他政府办公厅（室）及相关机构事务支出 | F9: 10.01 | G9: =H9+I9+K9 -> 10.01 | H9: 8.88 | I9: 1.13
A10: 201 | B10: 13 | D10: 20113 | E10: 商贸事务 | F10: 28 | K10: 28
A11: 201 | B11: 13 | C11: 08 | D11: 2011308 | E11: 招商引资 | F11: 28 | K11: 28
A12: 206 | D12: 206 | E12: 科学技术支出 | F12: 39.29 | K12: 39.29
A13: 206 | B13: 05 | D13: 20605 | E13: 科技条件与服务 | F13: 39.29 | K13: 39.29
A14: 206 | B14: 05 | C14: 99 | D14: 2060599 | E14: 其他科技条件与服务支出 | F14: 39.29 | K14: 39.29
A15: 208 | D15: 208 | E15: 社会保障和就业支出 | F15: 55.76 | G15: =H15+I15+K15 -> 55.76 | H15: 55.76
A16: 208 | B16: 05 | D16: 20805 | E16: 行政事业单位养老支出 | F16: 52.48 | G16: =H16+I16+K16 -> 52.48 | H16: 52.48
A17: 208 | B17: 05 | C17: 05 | D17: 2080505 | E17: 机关事业单位基本养老保险缴费支出 | F17: 52.48 | G17: =H17+I17+K17 -> 52.48 | H17: 52.48
A18: 208 | B18: 99 | D18: 20899 | E18: 其他社会保障和就业支出 | F18: 3.28 | G18: =H18+I18+K18 -> 3.28 | H18: 3.28
A19: 208 | B19: 99 | C19: 99 | D19: 2089999 | E19: 其他社会保障和就业支出 | F19: 3.28 | G19: =H19+I19+K19 -> 3.28 | H19: 3.28
A20: 210 | D20: 210 | E20: 卫生健康支出 | F20: 31.16 | G20: =H20+I20+K20 -> 31.16 | H20: 31.16
A21: 210 | B21: 11 | D21: 21011 | E21: 行政事业单位医疗 | F21: 31.16 | G21: =H21+I21+K21 -> 31.16 | H21: 31.16
A22: 210 | B22: 11 | C22: 02 | D22: 2101102 | E22: 事业单位医疗 | F22: 27.88 | G22: =H22+I22+K22 -> 27.88 | H22: 27.88
A23: 210 | B23: 11 | C23: 03 | D23: 2101103 | E23: 公务员医疗补助 | F23: 3.28 | G23: =H23+I23+K23 -> 3.28 | H23: 3.28
A24: 212 | D24: 212 | E24: 城乡社区支出 | F24: 26.85 | K24: 26.85
A25: 212 | B25: 08 | D25: 21208 | E25: 国有土地使用权出让收入安排的支出 | F25: 26.85 | K25: 26.85
A26: 212 | B26: 08 | C26: 99 | D26: 2120899 | E26: 其他国有土地使用权出让收入安排的支出 | F26: 26.85 | K26: 26.85
A27: 215 | D27: 215 | E27: 资源勘探工业信息等支出 | F27: =F28+F30 -> #REF! | G27: =G28+G30 -> #REF! | H27: =H28+H30 -> 335.35 | J27: =J28+J30 -> 267.63 | K27: =K28+K30 -> 635.44
A28: 215 | B28: 05 | D28: 21505 | E28: 工业和信息产业监管 | F28: =G28+K28 -> 68.03 | K28: 68.03
A29: 215 | B29: 05 | C29: 01 | D29: 2150501 | E29: 行政运行 | F29: =G29+K29 -> 68.03 | K29: 68.03
A30: 215 | B30: 08 | D30: 21508 | E30: 支持中小企业发展和管理支出 | F30: =G30+K30 -> #REF! | G30: =H30+#REF!+I30+J30 -> #REF! | H30: 335.35 | J30: =J31+J32 -> 267.63 | K30: =K31+K32 -> 567.41
A31: 215 | B31: 08 | C31: 01 | D31: 2150801 | E31: 行政运行 | F31: =G31+K31 -> #REF! | G31: =H31+#REF!+I31+J31 -> #REF! | H31: 335.35 | J31: 267.63 | K31: 94.36
A32: 215 | B32: 08 | C32: 99 | D32: 2150899 | E32: 其他支持中小企业发展和管理支出 | F32: =G32+K32 -> 473.05 | K32: 473.05
A33: 221 | D33: 221 | E33: 住房保障支出 | F33: 62.58 | G33: =H33+#REF!+I33+J33+K33 -> #REF! | H33: 62.58
A34: 221 | B34: 02 | D34: 22102 | E34: 住房改革支出 | F34: 62.58 | G34: =H34+#REF!+I34+J34+K34 -> #REF! | H34: 62.58
A35: 221 | B35: 02 | C35: 01 | D35: 2210201 | E35: 住房公积金 | F35: 62.58 | G35: =H35+#REF!+I35+J35+K35 -> #REF! | H35: 62.58

Sheet 8一般公共预算基本支出表
E1: 部门公开表08
A2: 一般公共预算基本支出表
A3: 单位：430001_岳阳高新技术产业园区管理委员会 | E3: 单位：万元
A4: 部门预算支出经济分类科目 | C4: 本年一般公共预算基本支出
A5: 科目代码 | B5: 科目名称 | C5: 合计 | D5: 人员经费 | E5: 公用经费
A6: 301 | B6: 工资福利支出 | C6: =D6 -> 493.73 | D6: 493.73
A7: 30101 | B7: 基本工资 | C7: =D7 -> 178.26 | D7: 178.26
A8: 30103 | B8: 奖金 | C8: =D8 -> 62.9 | D8: 62.9
A9: 30107 | B9: 绩效工资 | C9: =D9 -> 75.25 | D9: 75.25
A10: 30108 | B10: 机关事业单位基本养老保险缴费 | C10: =D10 -> 52.48 | D10: 52.48
A11: 30110 | B11: 职工基本医疗保险缴费 | C11: =D11 -> 27.88 | D11: 27.88
A12: 30111 | B12: 公务员医疗补助缴费 | C12: =D12 -> 3.28 | D12: 3.28
A13: 30112 | B13: 其他社会保障缴费 | C13: =D13 -> 3.28 | D13: 3.28
A14: 30113 | B14: 住房公积金 | C14: =D14 -> 62.58 | D14: 62.58
A15: 30199 | B15: 其他工资福利支出 | C15: =D15 -> 27.82 | D15: 27.82
A16: 302 | B16: 商品和服务支出 | C16: =E16 -> 267.63 | E16: =SUM(E17:E30) -> 267.63
A17: 30201 | B17: 办公费 | C17: =E17 -> 22.35 | E17: 22.35
A18: 30202 | B18: 印刷费 | C18: =E18 -> 8.26 | E18: 8.26
A19: 30206 | B19: 咨询费 | C19: =E19 -> 34.11 | E19: 34.11
B20: 水费 | C20: =E20 -> 2 | E20: 2
B21: 电费 | C21: =E21 -> 22.38 | E21: 22.38
A22: 30207 | B22: 邮电费 | C22: =E22 -> 1.85 | E22: 1.85
A23: 30211 | B23: 差旅费 | C23: =E23 -> 2.63 | E23: 2.63
B24: 物业管理费 | C24: =E24 -> 18.62 | E24: 18.62
A25: 30215 | B25: 会议费 | C25: =E25 -> 3.76 | E25: 3.76
A26: 30216 | B26: 培训费 | C26: =E26 -> 1.84 | E26: 1.84
A27: 30226 | B27: 维修(护)费 | C27: =E27 -> 2.43 | E27: 2.43
A28: 30228 | B28: 工会经费 | C28: =E28 -> 22.83 | E28: 22.83
A29: 30239 | B29: 其他交通费用 | C29: =E29 -> 5.86 | E29: 5.86
A30: 30299 | B30: 其他商品和服务支出 | C30: =E30 -> 118.71 | E30: 118.71
A31: 合计 | C31: =C6+C16 -> 761.36 | D31: =D6+D16 -> 493.73 | E31: =E16 -> 267.63

Sheet 9工资福利(政府预算)
A1: 一般公共预算基本支出表--人员经费(工资福利支出)(按政府预算经济分类)
A2: 单位：岳阳高新技术产业园区管理委员会 | M2: 金额单位：万元
A3: 功能科目 | D3: 单位代码 | E3: 单位名称（功能科目） | F3: 总 计 | G3: 机关工资福利支出 | L3: 对事业单位经常性补助
A4: 类 | B4: 款 | C4: 项 | G4: 合计 | H4: 工资奖金津补贴 | I4: 社会保障缴费 | J4: 住房公积金 | K4: 其他工资福利支出 | L4: 合计 | M4: 工资福利支出 | N4: 其他对事业单位补助
D5: 430 | E5: 合计 | F5: 493.73 | G5: 493.73 | H5: 316.41 | I5: 86.92 | J5: 62.58 | K5: =K6+K9+K14+K18+K21 -> 27.82
A6: 201 | D6: 201 | E6: 一般公共服务支出 | F6: 8.88 | G6: 8.88 | H6: 8.88 | I6: 0
A7: 201 | B7: 03 | D7: 20103 | E7: 政府办公厅（室）及相关机构事务 | F7: 8.88 | G7: 8.88 | H7: 8.88 | I7: 0
A8: 201 | B8: 03 | C8: 99 | D8: 2010399 | E8: 其他政府办公厅（室）及相关机构事务支出 | F8: 8.88 | G8: 8.88 | H8: 8.88 | I8: 0
A9: 208 | D9: 208 | E9: 社会保障和就业支出 | F9: 55.76 | G9: 55.76 | I9: 55.76
A10: 208 | B10: 05 | D10: 20805 | E10: 行政事业单位养老支出 | F10: 52.48 | G10: 52.48 | I10: 52.48
A11: 208 | B11: 05 | C11: 05 | D11: 2080505 | E11: 机关事业单位基本养老保险缴费支出 | F11: 52.48 | G11: 52.48 | I11: 52.48
A12: 208 | B12: 99 | D12: 20899 | E12: 其他社会保障和就业支出 | F12: 3.28 | G12: 3.28 | I12: 3.28
A13: 208 | B13: 99 | C13: 99 | D13: 2089999 | E13: 其他社会保障和就业支出 | F13: 3.28 | G13: 3.28 | I13: 3.28
A14: 210 | D14: 210 | E14: 卫生健康支出 | F14: 31.16 | G14: 31.16 | I14: 31.16
A15: 210 | B15: 11 | D15: 21011 | E15: 行政事业单位医疗 | F15: 31.16 | G15: 31.16 | I15: 31.16
A16: 210 | B16: 11 | C16: 02 | D16: 2101102 | E16: 事业单位医疗 | F16: 27.88 | G16: 27.88 | I16: 27.88
A17: 210 | B17: 11 | C17: 03 | D17: 2101103 | E17: 公务员医疗补助 | F17: 3.28 | G17: 3.28 | I17: 3.28
A18: 215 | D18: 215 | E18: 资源勘探工业信息等支出 | F18: 335.35 | G18: 335.35 | H18: 307.53 | I18: 0 | K18: 27.82
A19: 215 | B19: 08 | D19: 21508 | E19: 支持中小企业发展和管理支出 | F19: 335.35 | G19: 335.35 | H19: 307.53 | I19: 0 | K19: 27.82
A20: 215 | B20: 08 | C20: 01 | D20: 2150801 | E20: 行政运行 | F20: 335.35 | G20: 335.35 | H20: 307.53 | I20: 0 | K20: 27.82
A21: 221 | D21: 221 | E21: 住房保障支出 | F21: 62.58 | G21: 62.58 | I21: 0 | J21: 62.58
A22: 221 | B22: 02 | D22: 22102 | E22: 住房改革支出 | F22: 62.58 | G22: 62.58 | I22: 0 | J22: 62.58
A23: 221 | B23: 02 | C23: 01 | D23: 2210201 | E23: 住房公积金 | F23: 62.58 | G23: 62.58 | I23: 0 | J23: 62.58

Sheet 10工资福利
A1: 一般公共预算基本支出表--人员经费(工资福利支出)(按部门预算经济分类)
A2: 单位：岳阳高新技术产业园区管理委员会 | U2: 金额单位：万元
A3: 功能科目 | D3: 单位代码 | E3: 单位名称（功能科目） | F3: 总 计 | G3: 工资津补贴 | L3: 社会保障缴费 | R3: 住房公积金 | S3: 其他工资福利支出
A4: 类 | B4: 款 | C4: 项 | G4: 合计 | H4: 基本工资 | I4: 津贴补贴 | J4: 奖金 | K4: 绩效工资 | L4: 合计 | M4: 机关事业单位基本养老保险缴费 | N4: 职业年金缴费 | O4: 职工基本医疗保险缴费 | P4: 公务员医疗补助缴费 | Q4: 其他社会保障缴费 | S4: 合计 | T4: 伙食补助费 | U4: 医疗费 | V4: 其他工资福利支出
E5: 合 计 | F5: =F6+F9+F14+F18+F21 -> 493.73 | G5: =G6+G9+G14+G18+G21 -> 316.41 | H5: =H6+H9+H14+H18+H21 -> 178.26 | I5: =I6+I9+I14+I18+I21 -> 75.25 | J5: =J6+J9+J14+J18+J21 -> 62.9 | K5: =K6+K9+K14+K18+K21 -> 0 | L5: =L6+L9+L14+L18+L21 -> 86.92 | M5: =M6+M9+M14+M18+M21 -> 52.48 | ... V5: =V6+V9+V14+V18+V21 -> 27.82
A6: 201 | D6: 201 | E6: 一般公共服务支出 | F6: =G6+L6+S6 -> 8.88 | G6: 8.88 | I6: 8.88 | L6: =SUM(M6:R6) -> 0
A7: 201 | B7: 03 | D7: 20103 | E7: 政府办公厅（室）及相关机构事务 | F7: =G7+L7+S7 -> 8.88 | G7: 8.88 | I7: 8.88 | L7: =SUM(M7:R7) -> 0
A8: 201 | B8: 03 | C8: 99 | D8: 2010399 | E8: 其他政府办公厅（室）及相关机构事务支出 | F8: =G8+L8+S8 -> 8.88 | G8: 8.88 | I8: 8.88 | L8: =SUM(M8:R8) -> 0
A9: 208 | D9: 208 | E9: 社会保障和就业支出 | F9: =G9+L9+S9 -> 55.76 | L9: =SUM(M9:R9) -> 55.76 | M9: 52.48 | Q9: 3.28
A10: 208 | B10: 05 | D10: 20805 | E10: 行政事业单位养老支出 | F10: =G10+L10+S10 -> 52.48 | L10: =SUM(M10:R10) -> 52.48 | M10: 52.48
A11: 208 | B11: 05 | C11: 05 | D11: 2080505 | E11: 机关事业单位基本养老保险缴费支出 | F11: =G11+L11+S11 -> 52.48 | L11: =SUM(M11:R11) -> 52.48 | M11: 52.48
A12: 208 | B12: 99 | D12: 20899 | E12: 其他社会保障和就业支出 | F12: =G12+L12+S12 -> 3.28 | L12: =SUM(M12:R12) -> 3.28 | Q12: 3.28
A13: 208 | B13: 99 | C13: 99 | D13: 2089999 | E13: 其他社会保障和就业支出 | F13: =G13+L13+S13 -> 3.28 | L13: =SUM(M13:R13) -> 3.28 | Q13: 3.28
A14: 210 | D14: 210 | E14: 卫生健康支出 | F14: =G14+L14+S14 -> 31.16 | L14: =SUM(M14:R14) -> 31.16 | O14: 27.88 | P14: 3.28
A15: 210 | B15: 11 | D15: 21011 | E15: 行政事业单位医疗 | F15: =G15+L15+S15 -> 31.16 | L15: =SUM(M15:R15) -> 31.16 | O15: 27.88 | P15: 3.28
A16: 210 | B16: 11 | C16: 02 | D16: 2101102 | E16: 事业单位医疗 | F16: =G16+L16+S16 -> 27.88 | L16: =SUM(M16:R16) -> 27.88 | O16: 27.88
A17: 210 | B17: 11 | C17: 03 | D17: 2101103 | E17: 公务员医疗补助 | F17: =G17+L17+S17 -> 3.28 | L17: =SUM(M17:R17) -> 3.28 | P17: 3.28
A18: 215 | D18: 215 | E18: 资源勘探工业信息等支出 | F18: =G18+L18+S18 -> 335.35 | G18: =SUM(H18:K18) -> 307.53 | H18: 178.26 | I18: 66.37 | J18: 62.9 | L18: 0 | S18: 27.82 | V18: 27.82
A19: 215 | B19: 08 | D19: 21508 | E19: 支持中小企业发展和管理支出 | F19: =G19+L19+S19 -> 335.35 | G19: =SUM(H19:K19) -> 307.53 | H19: 178.26 | I19: 66.37 | J19: 62.9 | L19: 0 | S19: 27.82 | V19: 27.82
A20: 215 | B20: 08 | C20: 01 | D20: 2150801 | E20: 行政运行 | F20: =G20+L20+S20 -> 335.35 | G20: =SUM(H20:K20) -> 307.53 | H20: 178.26 | I20: 66.37 | J20: 62.9 | L20: 0 | S20: 27.82 | V20: 27.82
A21: 221 | D21: 221 | E21: 住房保障支出 | F21: 62.58 | L21: 0 | R21: 62.58
A22: 221 | B22: 02 | D22: 22102 | E22: 住房改革支出 | F22: 62.58 | L22: 0 | R22: 62.58
A23: 221 | B23: 02 | C23: 01 | D23: 2210201 | E23: 住房公积金 | F23: 62.58 | L23: 0 | R23: 62.58

Sheet 11个人家庭(政府预算)
A1: 一般公共预算基本支出表--人员经费(对个人和家庭的补助)(按政府预算经济分类)
A2: 单位：岳阳高新技术产业园区管理委员会 | J2: 金额单位：万元
A3: 功能科目 | D3: 单位代码 | E3: 单位名称（功能科目） | F3: 总计 | G3: 社会福利和救济 | H3: 助学金 | I3: 个人农业生产补贴 | J3: 离退休费 | K3: 其他对个人和家庭的补助
A4: 类 | B4: 款 | C4: 项
E5: 合计 | F5: 1.13 | J5: 1.13
A6: 201 | E6: 一般公共服务支出 | F6: 1.13 | J6: 1.13
A7: 201 | B7: 03 | E7: 政府办公厅（室）及相关机构事务 | F7: 1.13 | J7: 1.13
A8: 201 | B8: 03 | C8: 99 | D8: 430 | E8: 其他政府办公厅（室）及相关机构事务支出 | F8: 1.13 | J8: 1.13

Sheet 12个人家庭
A1: 一般公共预算基本支出表--人员经费(对个人和家庭的补助)（按部门预算经济分类）
A2: 单位：岳阳高新技术产业园区管理委员会 | Q2: 金额单位：万元
A3: 功能科目 | D3: 单位代码 | E3: 单位名称（功能科目） | F3: 总计 | G3: 离休费 | H3: 退休费 | I3: 退职（役）费 | J3: 抚恤金 | K3: 生活补助 | L3: 救济费 | M3: 医疗费补助 | N3: 助学金 | O3: 奖励金 | P3: 代缴社会保险费 | Q3: 个人农业生产补贴 | R3: 其他对个人和家庭的补助
A4: 类 | B4: 款 | C4: 项
E5: 合计 | F5: 1.13 | H5: 1.13
A6: 201 | E6: 一般公共服务支出 | F6: 1.13 | H6: 1.13
A7: 201 | B7: 03 | E7: 政府办公厅（室）及相关机构事务 | F7: 1.13 | H7: 1.13
A8: 201 | B8: 03 | C8: 99 | D8: 430 | E8: 其他政府办公厅（室）及相关机构事务支出 | F8: 1.13 | H8: 1.13

Sheet 13商品服务(政府预算)
A1: 一般公共预算基本支出表--公用经费(商品和服务支出)（按政府预算经济分类）
A2: 单位：岳阳高新技术产业园区管理委员会 | S2: 金额单位：万元
A3: 功能科目 | D3: 单位代码 | E3: 单位名称（功能科目） | F3: 总计 | G3: 机关商品和服务支出 | R3: 对事业单位经常性补助
A4: 类 | B4: 款 | C4: 项 | G4: 合计 | H4: 办公经费 | I4: 会议费 | J4: 培训费 | K4: 专用材料购置费 | L4: 委托业务费 | M4: 公务接待费 | N4: 因公出国（境）费用 | O4: 公务用车运行维护费 | P4: 维修(护)费 | Q4: 其他商品和服务支出 | R4: 合计 | S4: 商品和服务支出 | T4: 其他对事业单位补助
E5: 合计 | F5: 267.63 | G5: 267.63 | H5: 106.78 | I5: 3.76 | J5: 1.84 | P5: 2.43 | Q5: 152.82
A6: 215 | D6: 215 | E6: 资源勘探工业信息等支出 | F6: 267.63 | G6: 267.63 | H6: 106.78 | I6: 3.76 | J6: 1.84 | P6: 2.43 | Q6: 152.82
A7: 215 | B7: 08 | D7: 21508 | E7: 支持中小企业发展和管理支出 | F7: 267.63 | G7: =SUM(H7:Q7) -> 267.63 | H7: 106.78 | I7: 3.76 | J7: 1.84 | P7: 2.43 | Q7: ='14商品服务'!AG7+'14商品服务'!I7 -> 152.82
A8: 215 | B8: 08 | C8: 01 | D8: 2150801 | E8: 行政运行 | F8: 267.63 | G8: =SUM(H8:Q8) -> 267.63 | H8: 106.78 | I8: 3.76 | J8: 1.84 | P8: 2.43 | Q8: ='14商品服务'!AG8+'14商品服务'!I8 -> 152.82

Sheet 14商品服务
A1: 一般公共预算基本支出表--公用经费(商品和服务支出)(按部门预算经济分类)
A2: 单位：岳阳高新技术产业园区管理委员会 | AF2: 金额单位：万元
A3: 功能科目 | D3: 单位代码 | E3: 单位名称（功能科目） | F3: 总 计 | G3: 办公费 | H3: 印刷费 | I3: 咨询费 | J3: 手续费 | K3: 水费 | L3: 电费 | M3: 邮电费 | N3: 取暖费 | O3: 物业管理费 | P3: 差旅费 | Q3: 因公出国（境）费用 | R3: 维修(护)费 | S3: 租赁费 | T3: 会议费 | U3: 培训费 | V3: 公务接待费 | W3: 专用材料费 | X3: 被装购置费 | Y3: 专用燃料费 | Z3: 劳务费 | AA3: 委托业务费 | AB3: 工会经费 | AC3: 福利费 | AD3: 公务用车运行维护费 | AE3: 其他交通费用 | AF3: 税金及附加费用 | AG3: 其他商品和服务支出
A4: 类 | B4: 款 | C4: 项
E5: 合计 | F5: =F6 -> 267.63 | G5: =G6 -> 22.35 | H5: =H6 -> 8.26 | I5: =I6 -> 34.11 | K5: =K6 -> 2 | L5: =L6 -> 22.38 | M5: =M6 -> 1.85 | O5: =O6 -> 18.62 | P5: =P6 -> 2.63 | R5: =R6 -> 2.43 | T5: 3.76 | U5: 1.84 | AB5: =AB6 -> 22.83 | AE5: =AE6 -> 5.86 | AG5: =AG6 -> 118.71
A6: 215 | D6: 215 | E6: 资源勘探工业信息等支出 | F6: =F7 -> 267.63 | G6: =G7 -> 22.35 | H6: =H7 -> 8.26 | I6: =I7 -> 34.11 | K6: =K7 -> 2 | L6: =L7 -> 22.38 | M6: =M7 -> 1.85 | O6: =O7 -> 18.62 | P6: =P7 -> 2.63 | R6: =R7 -> 2.43 | T6: 3.76 | U6: 1.84 | AB6: =AB7 -> 22.83 | AE6: =AE7 -> 5.86 | AG6: =AG7 -> 118.71
A7: 215 | B7: 08 | D7: 21508 | E7: 支持中小企业发展和管理支出 | F7: =SUM(G7:AG7) -> 267.63 | G7: 22.35 | H7: 8.26 | I7: 34.11 | K7: 2 | L7: 22.38 | M7: 1.85 | O7: 18.62 | P7: 2.63 | R7: 2.43 | T7: 3.76 | U7: 1.84 | AB7: 22.83 | AE7: 5.86 | AG7: 118.71
A8: 215 | B8: 08 | C8: 01 | D8: 2150801 | E8: 行政运行 | F8: =SUM(G8:AG8) -> 267.63 | G8: 22.35 | H8: 8.26 | I8: 34.11 | K8: 2 | L8: 22.38 | M8: 1.85 | O8: 18.62 | P8: 2.63 | R8: 2.43 | T8: 3.76 | U8: 1.84 | AB8: 22.83 | AE8: 5.86 | AG8: 118.71

Sheet 15三公
A1: 一般公共预算“三公”经费支出表
A2: 单位：岳阳高新技术产业园区管理委员会 | G2: 金额单位：万元
A3: 单位编码 | B3: 单位名称 | C3: “三公”经费合计 | D3: 因公出国（境）费 | E3: 公务用车购置及运行费 | H3: 公务接待费
E4: 小计 | F4: 公务用车购置费 | G4: 公务用车运行费
B5: 合计 | H5: 12.56
A6: 430 | B6: 岳阳高新技术产业园区管理委员会 | C6: 12.56 | E6: 12.56 | H6: 12.56

Sheet 16政府性基金
A1: 政府性基金预算支出表
A2: 单位：岳阳高新技术产业园区管理委员会 | G2: 金额单位：万元
A3: 科目编码 | B3: 科目名称 | C3: 合计 | D3: 本年政府性基金预算支出 | H3: 项目支出
D4: 小计 | E4: 人员经费 | G4: 公用经费
E5: 工资福利支出 | F5: 对个人和家庭的补助
B6: 合 计 | C6: =C7+C13 -> 63249.41 | D6: =D7+D13 -> 63249.41 | H6: =H7+H13 -> 63249.41
A7: 212 | B7: 城乡社区支出 | C7: 20372.98 | D7: 20372.98 | H7: 20372.98
A8: 21208 | B8: 国有土地使用权出让收入安排的支出 | C8: 19967.95 | D8: 19967.95 | H8: 19967.95
A9: 2120803 | B9: 城市建设支出 | C9: 97.72 | D9: 97.72 | H9: 97.72
A10: 2120899 | B10: 其他国有土地使用权出让收入安排的支出 | C10: 19870.23 | D10: 19870.23 | H10: 19870.23
A11: 21214 | B11: 污水处理费安排的支出 | C11: 405.03 | D11: 405.03 | H11: 405.03
A12: 2121401 | B12: 污水处理设施建设和运营 | C12: 405.03 | D12: 405.03 | H12: 405.03
A13: 229 | B13: 其他支出 | C13: =C14+C16 -> 42876.43 | D13: =D14+D16 -> 42876.43 | H13: =H14+H16 -> 42876.43
A14: 22904 | B14: 其他政府性基金及对应专项债务收入安排的支出 | C14: 39392.43 | D14: 39392.43 | H14: 39392.43
A15: 2290402 | B15: 其他地方自行试点项目收益专项债券收入安排的支出 | C15: 39392.43 | D15: 39392.43 | H15: 39392.43
A16: 22999 | B16: 其他支出 | C16: 3484 | D16: 3484 | H16: 3484
A17: 2299999 | B17: 其他支出 | C17: 3484 | D17: 3484 | H17: 3484

Sheet 17政府性基金(政府预算)
A1: 政府性基金预算支出分类汇总表（按政府预算经济分类）
A2: 单位：岳阳高新技术产业园区管理委员会 | S2: 金额单位：万元
A3: 功能科目 | D3: 单位代码 | E3: 单位名称（功能科目） | F3: 总 计 | G3: 机关工资福利支出 | H3: 机关商品和服务支出 | I3: 机关资本性支出(一) | J3: 机关资本性支出(二) | K3: 对事业单位经常性补助 | L3: 对事业单位资本性补助 | M3: 对企业补助 | N3: 对企业资本性支出 | O3: 对个人和家庭的补助 | P3: 对社会保障基金补助 | Q3: 债务利息及费用支出 | R3: 债务还本支出 | S3: 转移性支出 | T3: 其他支出
A4: 类 | B4: 款 | C4: 项
E5: 合计 | F5: =H5+I5+J5+M5 -> 63249.41 | H5: =H6+H12 -> 920.72 | I5: =I6+I12 -> 42396.16 | J5: =J6+J12 -> 1168.56 | M5: =M6+M12 -> 18763.97
A6: 212 | D6: 212 | E6: 城乡社区支出 | F6: =H6+I6+J6+M6 -> 20372.98 | H6: =H7+H10 -> 920.72 | I6: =I7+I10 -> 3003.73 | J6: =J7+J10 -> 422.56 | M6: =M7+M10 -> 16025.97
A7: 212 | B7: 08 | D7: 21208 | E7: 国有土地使用权出让收入安排的支出 | F7: =H7+I7+J7+M7 -> 19967.95 | H7: =H8+H9 -> 515.69 | I7: =I8+I9 -> 3003.73 | J7: =J8+J9 -> 422.56 | M7: =M8+M9 -> 16025.97
A8: 212 | B8: 08 | C8: 03 | D8: 2120803 | E8: 城市建设支出 | F8: =H8+I8+J8+M8 -> 97.72 | I8: 97.72
A9: 212 | B9: 08 | C9: 99 | D9: 2120899 | E9: 其他国有土地使用权出让收入安排的支出 | F9: =H9+I9+J9+M9 -> 19870.23 | H9: 515.69 | I9: 2906.01 | J9: 422.56 | M9: =18763.97-2738 -> 16025.97
A10: 212 | B10: 14 | D10: 21214 | E10: 污水处理费安排的支出 | F10: =H10+I10+J10+M10 -> 405.03 | H10: 405.03
A11: 212 | B11: 14 | C11: 01 | D11: 2121401 | E11: 污水处理设施建设和运营 | F11: =H11+I11+J11+M11 -> 405.03 | H11: 405.03
A12: 229 | D12: 229 | E12: 其他支出 | F12: =H12+I12+J12+M12 -> 42876.43 | I12: =I13+I15 -> 39392.43 | J12: =J13+J15 -> 746 | M12: =M13+M15 -> 2738
A13: 229 | B13: 04 | D13: 22904 | E13: 其他政府性基金及对应专项债务收入安排的支出 | F13: =H13+I13+J13+M13 -> 39392.43 | I13: 39392.43
A14: 229 | B14: 04 | C14: 02 | D14: 2290402 | E14: 其他地方自行试点项目收益专项债券收入安排的支出 | F14: =H14+I14+J14+M14 -> 39392.43 | I14: 39392.43
A15: 229 | B15: 99 | D15: 22999 | E15: 其他支出 | F15: =H15+I15+J15+M15 -> 3484 | J15: 746 | M15: 2738
A16: 229 | B16: 99 | C16: 99 | D16: 2299999 | E16: 其他支出 | F16: =H16+I16+J16+M16 -> 3484 | J16: 746 | M16: 2738

Sheet 18政府性基金（部门预算）
A1: 政府性基金预算支出分类汇总表（按部门预算经济分类）
A2: 单位：岳阳高新技术产业园区管理委员会 | P2: 金额单位：万元
A3: 功能科目 | D3: 单位代码 | E3: 单位名称（功能科目） | F3: 总 计 | G3: 基本支出 | K3: 项目支出
A4: 类 | B4: 款 | C4: 项 | G4: 合计 | H4: 工资福利支出 | I4: 一般商品和服务支出 | J4: 对个人和家庭的补助 | K4: 合计 | L4: 按项目管理的商品和服务支出 | M4: 按项目管理的对个人和家庭的补助 | N4: 债务利息及费用支出 | O4: 资本性支出（基本建设） | P4: 资本性支出 | Q4: 对企业补助（基本建设） | R4: 对企业补助 | S4: 对社会保障基金补助 | T4: 其他支出
E5: 合计 | F5: =F6+F12 -> 63249.41 | G5: 0 | H5: 0 | I5: 0 | J5: 0 | K5: =K6+K12 -> 63249.41 | L5: =L6+L12 -> 920.72 | M5: =M6+M12 -> 0 | N5: =N6+N12 -> 0 | O5: =O6+O12 -> 42396.16 | P5: =P6+P12 -> 1168.56 | Q5: =Q6+Q12 -> 0 | R5: =R6+R12 -> 18763.97 | ... T5: =T6+T12 -> 0
A6: 212 | D6: 212 | E6: 城乡社区支出 | F6: =F7+F10 -> 20372.98 | K6: =K7+K10 -> 20372.98 | L6: =L7+L10 -> 920.72 | O6: =O7+O10 -> 3003.73 | P6: =P7+P10 -> 422.56 | R6: =R7+R10 -> 16025.97
A7: 212 | B7: 08 | D7: 21208 | E7: 国有土地使用权出让收入安排的支出 | F7: =F8+F9 -> 19967.95 | K7: =K8+K9 -> 19967.95 | L7: =L8+L9 -> 515.69 | O7: =O8+O9 -> 3003.73 | P7: =P8+P9 -> 422.56 | R7: =R8+R9 -> 16025.97
A8: 212 | B8: 08 | C8: 03 | D8: 2120803 | E8: 城市建设支出 | F8: =G8+K8 -> 97.72 | K8: =SUM(L8:T8) -> 97.72 | O8: 97.72
A9: 212 | B9: 08 | C9: 99 | D9: 2120899 | E9: 其他国有土地使用权出让收入安排的支出 | F9: =G9+K9 -> 19870.23 | K9: =SUM(L9:T9) -> 19870.23 | L9: 515.69 | O9: 2906.01 | P9: 422.56 | R9: =18763.97-2738 -> 16025.97
A10: 212 | B10: 14 | D10: 21214 | E10: 污水处理费安排的支出 | F10: =G10+K10 -> 405.03 | K10: =SUM(L10:T10) -> 405.03 | L10: 405.03
A11: 212 | B11: 14 | C11: 01 | D11: 2121401 | E11: 污水处理设施建设和运营 | F11: =G11+K11 -> 405.03 | K11: =SUM(L11:T11) -> 405.03 | L11: 405.03
A12: 229 | D12: 229 | E12: 其他支出 | F12: =F13+F15 -> 42876.43 | K12: =K13+K15 -> 42876.43 | O12: =O13+O15 -> 39392.43 | P12: =P13+P15 -> 746 | R12: =R13+R15 -> 2738
A13: 229 | B13: 04 | D13: 22904 | E13: 其他政府性基金及对应专项债务收入安排的支出 | F13: =G13+K13 -> 39392.43 | K13: =SUM(L13:T13) -> 39392.43 | O13: 39392.43
A14: 229 | B14: 04 | C14: 02 | D14: 2290402 | E14: 其他地方自行试点项目收益专项债券收入安排的支出 | F14: =G14+K14 -> 39392.43 | K14: =SUM(L14:T14) -> 39392.43 | O14: 39392.43
A15: 229 | B15: 99 | D15: 22999 | E15: 其他支出 | F15: =G15+K15 -> 3484 | K15: =SUM(L15:T15) -> 3484 | P15: 746 | R15: 2738
A16: 229 | B16: 99 | C16: 99 | D16: 2299999 | E16: 其他支出 | F16: =G16+K16 -> 3484 | K16: =SUM(L16:T16) -> 3484 | P16: 746 | R16: 2738

Sheet 19国有资本经营预算
A1: 国有资本经营预算支出表
A2: 单位：岳阳高新技术产业园区管理委员会 | H2: 金额单位：万元
A3: 科目编码 | B3: 科目名称 | C3: 合计 | D3: 本年国有资本经营预算支出 | H3: 项目支出
D4: 小计 | E4: 人员经费 | G4: 公用经费
E5: 工资福利支出 | F5: 对个人和家庭的补助
B6: 合计

Sheet 20财政专户管理资金
A1: 财政专户管理资金预算支出表
A2: 单位：岳阳高新技术产业园区管理委员会 | H2: 金额单位：万元
A3: 科目编码 | B3: 科目名称 | C3: 合计 | D3: 本年财政专户管理资金预算支出 | H3: 项目支出
D4: 小计 | E4: 人员经费 | G4: 公用经费
E5: 工资福利支出 | F5: 对个人和家庭的补助
B6: 合计

Sheet 21专项清单
A1: 专项资金预算汇总表
A2: 单位：430-岳阳高新技术产业园区管理委员会 | M2: 金额单位：万元
A3: 单位代码 | B3: 单位名称（专项名称） | C3: 预算额度 | M3: 预算编制方式
C4: 总计 | D4: 一般公共预算 | J4: 政府性基金 | K4: 国有资本经营预算 | L4: 社会保险基金预算资金 | M4: 编入部门预算金额 | N4: 财政代编金额
D5: 一般公共预算小计 | E5: 经费拨款 | F5: 纳入一般公共预算管理的非税收入 | G5: 一般债券 | H5: 外国政府和国际组织贷款 | I5: 外国政府和国际组织赠款
B6: 合计 | C6: =SUM(C7:C41) -> 63982.754 | D6: =SUM(D7:D41) -> 733.34 | E6: =SUM(E7:E41) -> 0 | F6: =SUM(F7:F41) -> 0 | G6: =SUM(G7:G41) -> 0 | H6: =SUM(H7:H41) -> 0 | I6: =SUM(I7:I41) -> 0 | J6: =SUM(J7:J41) -> 63249.414 | ... N6: =SUM(N7:N41) -> 0
A7: 430 | B7: 会议费用 | C7: 3.76 | D7: 3.76 | M7: 3.76
A8: 430 | B8: 企业发展服务费 | C8: =SUM(D8:L8) -> 50.62 | D8: 50.62 | M8: =C8 -> 50.62
A9: 430 | B9: 创新创业办公大楼运行 | C9: =SUM(D9:L9) -> 109.29 | D9: 109.29 | M9: =C9 -> 109.29
A10: 430 | B10: 五好园区创建工作经费 | C10: =SUM(D10:L10) -> 122 | D10: 122 | M10: =C10 -> 122
A11: 430 | B11: 园区招商及协调开支 | C11: 460 | D11: 115 | J11: 345 | M11: =C11 -> 460
A12: 430 | B12: 安全环保专项支出 | C12: =SUM(D12:L12) -> 273.91 | D12: 155.86 | J12: 118.05 | M12: =C12 -> 273.91
A13: 430 | B13: 园区污水处理费用 | C13: =SUM(D13:L13) -> 405.03 | J13: 405.03 | M13: =C13 -> 405.03
A14: 430 | B14: 园区重大项目活动专项支出 | C14: =SUM(D14:L14) -> 81.42 | D14: 28.78 | J14: 52.64 | M14: =C14 -> 81.42
A15: 430 | B15: 园区调园扩区专项支出 | C15: 68.03 | D15: 68.03 | M15: 68.03
A16: 430 | B16: 工业发展资金专项支出 | C16: =SUM(D16:L16) -> 18843.97 | D16: 80 | J16: 18763.97 | M16: =C16 -> 18843.97
A17: 430 | B17: 保障性住房建设项目 | C17: =SUM(D17:L17) -> 510.97 | J17: =470.97+40 -> 510.97 | M17: =C17 -> 510.97
A18: 430 | B18: 园区公共实训基地建设项目 | C18: =SUM(D18:L18) -> 248.37 | J18: 248.37 | M18: =C18 -> 248.37
A19: 430 | B19: 金石路、融园路道路工程 | C19: =SUM(D19:L19) -> 275.61 | J19: 275.61 | M19: =C19 -> 275.61
A20: 430 | B20: 园区五期路网武广路、金信路道路工程 | C20: =SUM(D20:L20) -> 254.02 | J20: 254.02 | M20: =C20 -> 254.02
A21: 430 | B21: 安达耐材围墙（含基础）拆除及重建工程 | C21: =SUM(D21:L21) -> 28.3 | J21: 28.3 | M21: =C21 -> 28.3
A22: 430 | B22: 园区科伦路挡墙工程 | C22: =SUM(D22:L22) -> 24.4866 | J22: 24.4866 | M22: =C22 -> 24.4866
A23: 430 | B23: 园区纬三路、经四路道路工程 | C23: =SUM(D23:L23) -> 890.29 | J23: 890.29 | M23: =C23 -> 890.29
A24: 430 | B24: 园区经三路、纬四路道路工程 | C24: =SUM(D24:L24) -> 390.77 | J24: 390.77 | M24: =C24 -> 390.77
A25: 430 | B25: 园区主污水管、主雨水管工程 | C25: =SUM(D25:L25) -> 116.23 | J25: 116.23 | M25: =C25 -> 116.23
A26: 430 | B26: 园区标准化厂房建设项目（一期）工程 | C26: =SUM(D26:L26) -> 1431.59 | J26: 1431.59 | M26: =C26 -> 1431.59
A27: 430 | B27: 岳阳高新技术产业园区污水处理厂项目 | C27: =SUM(D27:L27) -> 1895.67 | J27: 1895.67 | M27: =C27 -> 1895.67
A28: 430 | B28: 洪山洞第六期土方平整工程（C3标） | C28: =SUM(D28:L28) -> 104.11 | J28: 104.11 | M28: =C28 -> 104.11
A29: 430 | B29: 园区长湘路道路工程 | C29: =SUM(D29:L29) -> 48.8573 | J29: 48.8573 | M29: =C29 -> 48.8573
... A32: 430 | B32: 鼎盛代建机械智造园建设工程项目 | C32: =SUM(D32:L32) -> 13109.72 | J32: 13109.72 | M32: =C32 -> 13109.72
A33: 430 | B33: 鼎盛代建园区标准化厂房建设项目工程（二期）工程 | C33: =SUM(D33:L33) -> 7561.8 | J33: =9452.25*0.8 -> 7561.8 | M33: =C33 -> 7561.8
A34: 430 | B34: 鼎盛代建园区域边坡处理工程 | C34: =SUM(D34:L34) -> 43.66 | J34: 43.66 | M34: =C34 -> 43.66
A35: 430 | B35: 园区富园路道路工程 | C35: =SUM(D35:L35) -> 36.74 | J35: 36.74 | M35: =C35 -> 36.74
A36: 430 | B36: 园区主片区污水管网检查维修工程 | C36: =SUM(D36:L36) -> 116.18 | J36: 116.18 | M36: =C36 -> 116.18
A37: 430 | B37: 园区工业大道北延工程项目 | C37: =SUM(D37:L37) -> 41.58 | J37: 41.58 | M37: =C37 -> 41.58
A38: 430 | B38: 园区同华路北延工程项目 | C38: =SUM(D38:L38) -> 22.12 | J38: 22.12 | M38: =C38 -> 22.12
A39: 430 | B39: 园区林冲路排水管道工程 | C39: =SUM(D39:L39) -> 22.1 | J39: 22.1 | M39: =C39 -> 22.1
A40: 430 | B40: 园区110KV荣家湾变电站至湖南科伦制药有限公司二期项目10kv电缆外线工程 | C40: =SUM(D40:L40) -> 207.78 | J40: 207.78 | M40: =C40 -> 207.78
A41: 430 | B41: 其他零星工程项目 | C41: =SUM(D41:L41) -> 1168.56 | J41: 1168.56 | M41: =C41 -> 1168.56

Sheet 22项目支出绩效目标表
A1: 项目支出绩效目标表
A2: 单位：430-岳阳高新技术产业园区管理委员会 | L2: 金额单位：万元
A3: 单位代码 | B3: 单位（专项）名称 | C3: 资金总额 | D3: 实施期绩效目标 | E3: 绩效指标
E4: 一级指标 | F4: 二级指标 | G4: 三级指标 | H4: 指标值 | I4: 指标值内容 | J4: 评（扣分标准） | K4: 度量单位 | L4: 指标值类型 | M4: 备注
A5: 430 | B5: 岳阳高新技术产业园区管理委员会 | C5: =SUM(C6:C168) -> 63982.75
A6: 430 | B6: 创新创业办公大楼运行 | C6: 109.29 | D6: 目标1：招商项目20个，投资金额120亿，12月底完成； 目标2：快速推进六期配套设施及七期扩园建设； 目标3：园区创新创业服务中心全面高效投运，营商环境全面提质； 目标4：园区企业完成税收4.2亿元。 | E6: 产出指标 | F6: 生态环境成本指标 | G6: 无 | H6: 0 | I6: 园区环保项目实际支出 | J6: 未达到指标值酌情扣分 | K6: 元 | L6: 定量
F7: 社会成本指标 | G7: 无 | H7: 0 | I7: 企业发展服务开支 | J7: 未达到指标值酌情扣分 | K7: 元 | L7: 定量
F8: 质量指标 | G8: 园区配套设施 | H8: 六期配套设施建设加速推进 | I8: 园区配套设备完善情况 | J8: 未达到指标值酌情扣分 | K8: 无 | L8: 定性
G9: 营商环境 | H9: 营商环境优秀 | I9: 企业服务面更广，维度更大，服务更优，效能更高，企业对营商环境满意度100% | J9: 未达到指标值酌情扣分 | K9: 无 | L9: 定性
G10: 园区环境整治 | H10: 园区环境整治达标 | I10: 园区环境整治完成情况 | J10: 未达到指标值酌情扣分 | K10: 无 | L10: 定性
F11: 数量指标 | G11: 招商引资额 | H11: ≥120亿元 | I11: 招商引资总额达120亿元以上 | J11: 未达到指标值酌情扣分 | K11: 亿元 | L11: 定量
G12: 重大项目签约 | H12: 20个 | I12: 完成重大项目签约数20个 | J12: 未达到指标值酌情扣分 | K12: 个 | L12: 定量
G13: 园区聘用临时人员数 | H13: ≤10人 | I13: 园区实际聘用临时用工人数小于人社部门核定三性用工人数 | J13: 未达到指标值酌情扣分 | K13: 人 | L13: ≤
G14: 财政供养人员控制率 | H14: ≤100% | I14: 园区实际在编在岗人数/编办核定在编在岗人数*100% | J14: 未达到指标值酌情扣分 | K14: % | L14: 定量
F15: 时效指标 | G15: 招商引资完成及时率 | H15: 100% | I15: 完成重大项目签约数20个，招商引资总额达120亿元以上，12月底完成 | J15: 未达到指标值酌情扣分 | K15: % | L15: 定量
F16: 经济成本指标 | G16: 预算控制数 | H16: ≤1092900元 | I16: 园区创新创业办公大楼运行开支 | J16: 未达到指标值酌情扣分 | K16: 元 | L16: ≤
E17: 满意度指标 | F17: 服务对象满意度指标 | G17: 企业对园区服务满意度 | H17: ≥98% | I17: 满意 | J17: 未达到指标值酌情扣分 | K17: % | L17: ≥
G18: 服务对象对园区环境整治的满意度 | H18: ≥98% | I18: 满意 | J18: 未达到指标值酌情扣分 | K18: % | L18: ≥
G19: 社会公众投诉次数 | H19: ≤1次 | I19: 企业等服务对象对园区服务工作的投诉次数 | J19: 未达到指标值酌情扣分 | K19: 次 | L19: ≤
E20: 效益指标 | F20: 生态效益指标 | G20: 环保排放 | H20: 园区企业环保排放达标 | I20: 园区企业环保排放达标情况 | J20: 未达到指标值酌情扣分 | K20: 无 | L20: 定性
F21: 经济效益指标 | G21: 税收目标 | H21: ≥4.2亿元 | I21: 12月底完成税收情况 | J21: 未达到指标值酌情扣分 | K21: 亿元 | L21: 定量
F22: 社会效益指标 | G22: 增加就业岗位 | H22: 600人 | I22: 企业新增就业人数 | J22: 未达到指标值酌情扣分 | K22: 人 | L22: 定量
A23: 430 | B23: 五好园区创建工作经费 | C23: 122 | D23: 目标1：招商项目20个，投资金额120亿，12月底完成； 目标2：快速推进六期配套设施及七期扩园建设； 目标3：园区创新创业服务中心全面高效投运，营商环境全面提质； 目标4：园区企业完成税收4.2亿元。 | E23: 产出指标 | F23: 生态环境成本指标 | G23: 无 | H23: 0 | I23: 园区环保项目实际支出 | J23: 未达到指标值酌情扣分 | K23: 元 | L23: 定量
F24: 社会成本指标 | G24: 无 | H24: 0 | I24: 企业发展服务开支 | J24: 未达到指标值酌情扣分 | K24: 元 | L24: 定量
F25: 质量指标 | G25: 园区配套设施 | H25: 六期配套设施建设加速推进 | I25: 园区配套设备完善情况 | J25: 未达到指标值酌情扣分 | K25: 无 | L25: 定性
G26: 营商环境 | H26: 营商环境优秀 | I26: 企业服务面更广，维度更大，服务更优，效能更高，企业对营商环境满意度100% | J26: 未达到指标值酌情扣分 | K26: 无 | L26: 定性
G27: 园区环境整治 | H27: 园区环境整治达标 | I27: 园区环境整治完成情况 | J27: 未达到指标值酌情扣分 | K27: 无 | L27: 定性
F28: 数量指标 | G28: 招商引资额 | H28: ≥122亿元 | I28: 招商引资总额达122亿元以上 | J28: 未达到指标值酌情扣分 | K28: 亿元 | L28: 定量
G29: 重大项目签约 | H29: 20个 | I29: 完成重大项目签约数20个 | J29: 未达到指标值酌情扣分 | K29: 个 | L29: 定量
G30: 园区聘用临时人员数 | H30: ≤10人 | I30: 园区实际聘用临时用工人数小于人社部门核定三性用工人数 | J30: 未达到指标值酌情扣分 | K30: 人 | L30: ≤
G31: 财政供养人员控制率 | H31: ≤100% | I31: 园区实际在编在岗人数/编办核定在编在岗人数*100% | J31: 未达到指标值酌情扣分 | K31: % | L31: 定量
F32: 时效指标 | G32: 招商引资完成及时率 | H32: 100% | I32: 完成重大项目签约数20个，招商引资总额达120亿元以上，12月底完成 | J32: 未达到指标值酌情扣分 | K32: % | L32: 定量
F33: 经济成本指标 | G33: 预算控制数 | H33: ≤1220000元 | I33: 五好园区创建工作经费 | J33: 未达到指标值酌情扣分 | K33: 元 | L33: ≤
E34: 满意度指标 | F34: 服务对象满意度指标 | G34: 企业对园区服务满意度 | H34: ≥98% | I34: 满意 | J34: 未达到指标值酌情扣分 | K34: % | L34: ≥
G35: 服务对象对园区环境整治的满意度 | H35: ≥98% | I35: 满意 | J35: 未达到指标值酌情扣分 | K35: % | L35: ≥
G36: 社会公众投诉次数 | H36: ≤1次 | I36: 企业等服务对象对园区服务工作的投诉次数 | J36: 未达到指标值酌情扣分 | K36: 次 | L36: ≤
E37: 效益指标 | F37: 生态效益指标 | G37: 环保排放 | H37: 园区企业环保排放达标 | I37: 园区企业环保排放达标情况 | J37: 未达到指标值酌情扣分 | K37: 无 | L37: 定性
F38: 经济效益指标 | G38: 税收目标 | H38: ≥4.2亿元 | I38: 12月底完成税收情况 | J38: 未达到指标值酌情扣分 | K38: 亿元 | L38: 定量
F39: 社会效益指标 | G39: 增加就业岗位 | H39: 600人 | I39: 企业新增就业人数 | J39: 未达到指标值酌情扣分 | K39: 人 | L39: 定量
A40: 430 | B40: 园区扩园调规开支 | C40: 68.03 | D40: 目标1：招商项目20个，投资金额120亿，12月底完成； 目标2：快速推进六期配套设施及七期扩园建设； 目标3：园区创新创业服务中心全面高效投运，营商环境全面提质； 目标4：园区企业完成税收4.2亿元。 | E40: 产出指标 | F40: 生态环境成本指标 | G40: 无 | H40: 0 | I40: 园区环保项目实际支出 | J40: 未达到指标值酌情扣分 | K40: 元 | L40: 定量
...

Sheet 23整体支出绩效目标表
A1: 整体支出绩效目标表
A2: 单位：岳阳高新技术产业园区管理委员会 | Q2: 金额单位：万元
A3: 单位编码 | B3: 单位名称 | C3: 年度预算申请 | J3: 整体绩效目标 | K3: 部门整体支出年度绩效目标
C4: 资金总额 | D4: 按收入性质分 | H4: 按支出性质分
D5: 一般公共预算 | E5: 政府性基金拨款 | F5: 财政专户管理资金 | G5: 其他资金 | H5: 基本支出 | I5: 项目支出 | K5: 一级指标 | L5: 二级指标 | M5: 三级指标 | N5: 指标值类型 | O5: 指标值 | P5: 度量单位 | Q5: 指标值说明 | R5: 备注
A6: 430 | B6: 岳阳高新技术产业园区管理委员会 | C6: =SUM(D6:G16) -> #REF! | D6: ='1收支总表'!B5 -> #REF! | E6: ='1收支总表'!B19 -> 63249.41 | H6: ='1收支总表'!F5 -> 762.49 | I6: ='1收支总表'!F9 -> 63978.99 | J6: 目标1：保证人员经费正常发放，保障机构正常运转； 目标2：对园区企业监督管理，保证完成行政任务和事业发展； 目标3：为园区产业发展提供服务，全面优化营商环境； 目标4：完善园区基础设施建设，提升产业基础承载能力。 | K6: 产出指标 | L6: 重点工作任务完成 | M6: 年度税收目标 | N6: 定性 | O6: 100 | Q6: 高新园区年度税收目标达标率
M7: 六期园区配套设施 | N7: ≥ | O7: 50 | P7: % | Q7: 园区配套设施完善情况
M8: 重大项目签约 | N8: ≥ | O8: 20 | P8: 个 | Q8: 完成重大项目签约20个
M9: 招商引资额 | N9: ≥ | O9: 120 | P9: 亿元 | Q9: 招商引资总额120亿元以上
M10: 园区环境整治 | N10: = | O10: 100 | P10: % | Q10: 园区环境整治完成情况
L11: 履职目标实现 | M11: 高新园区管理成本 | N11: 定性 | O11: 100 | Q11: 年度高新园区行政管理运行成本达标率
K12: 效益指标 | L12: 履职效益 | M12: 环保排放达标率 | N12: = | O12: 100 | P12: % | Q12: 园区企业环保排放达标率
M13: 税收目标 | N13: ≥ | O13: 4.2 | P13: 亿元 | Q13: 完成税收目标4.2亿元
M14: 增加就业岗位 | N14: ≥ | O14: 600 | P14: 个 | Q14: 新增就业岗位600个
L15: 满意度 | M15: 企业对象满意度 | N15: ≥ | O15: 95 | P15: % | Q15: 反映企业对高新园区服务等相关工作的的满意度
M16: 服务对象对园区环境整治的满意度 | N16: ≥ | O16: 98 | P16: % | Q16: 反映企业对园区环境整治的满意度
